BEGIN:VCALENDAR
VERSION:2.0
PRODID:-//Fiesta de la Fruta y de las Flores - ECPv6.15.20//NONSGML v1.0//EN
CALSCALE:GREGORIAN
METHOD:PUBLISH
X-ORIGINAL-URL:https://fiestasdeambato.com
X-WR-CALDESC:Eventos para Fiesta de la Fruta y de las Flores
REFRESH-INTERVAL;VALUE=DURATION:PT1H
X-Robots-Tag:noindex
X-PUBLISHED-TTL:PT1H
BEGIN:VTIMEZONE
TZID:America/New_York
BEGIN:DAYLIGHT
TZOFFSETFROM:-0500
TZOFFSETTO:-0400
TZNAME:EDT
DTSTART:20240310T070000
END:DAYLIGHT
BEGIN:STANDARD
TZOFFSETFROM:-0400
TZOFFSETTO:-0500
TZNAME:EST
DTSTART:20241103T060000
END:STANDARD
BEGIN:DAYLIGHT
TZOFFSETFROM:-0500
TZOFFSETTO:-0400
TZNAME:EDT
DTSTART:20250309T070000
END:DAYLIGHT
BEGIN:STANDARD
TZOFFSETFROM:-0400
TZOFFSETTO:-0500
TZNAME:EST
DTSTART:20251102T060000
END:STANDARD
BEGIN:DAYLIGHT
TZOFFSETFROM:-0500
TZOFFSETTO:-0400
TZNAME:EDT
DTSTART:20260308T070000
END:DAYLIGHT
BEGIN:STANDARD
TZOFFSETFROM:-0400
TZOFFSETTO:-0500
TZNAME:EST
DTSTART:20261101T060000
END:STANDARD
END:VTIMEZONE
BEGIN:VEVENT
DTSTART;TZID=America/New_York:20250215T090000
DTEND;TZID=America/New_York:20250215T123000
DTSTAMP:20260424T172949
CREATED:20250211T163911Z
LAST-MODIFIED:20250211T163911Z
UID:3675-1739610000-1739622600@fiestasdeambato.com
SUMMARY:Gincanas Barriales "Juegos Tradicionales"
DESCRIPTION:Recordarmos los juegos tradicionales junto a las familias ambateñas este fin de semana en el parque los Quindes y en el barrio La Joya
URL:https://fiestasdeambato.com/evento/gincanas-barriales-juegos-tradicionales/
ATTACH;FMTTYPE=image/jpeg:https://fiestasdeambato.com/wp-content/uploads/2025/02/gincana-01-1-scaled.jpg
END:VEVENT
BEGIN:VEVENT
DTSTART;TZID=America/New_York:20250215T090000
DTEND;TZID=America/New_York:20250215T170000
DTSTAMP:20260424T172949
CREATED:20250212T162130Z
LAST-MODIFIED:20250212T162342Z
UID:3731-1739610000-1739638800@fiestasdeambato.com
SUMMARY:Festival AMBATRÓNICA - Parque de la Flores
DESCRIPTION:Varios artistas locales de la escena de música electrónica se juntan para enceder la fiesta de la fruta y de las flores
URL:https://fiestasdeambato.com/evento/festival-ambatronica-parque-de-la-flores/
END:VEVENT
END:VCALENDAR