BEGIN:VCALENDAR
VERSION:2.0
PRODID:-//Fiesta de la Fruta y de las Flores - ECPv6.15.20//NONSGML v1.0//EN
CALSCALE:GREGORIAN
METHOD:PUBLISH
X-ORIGINAL-URL:https://fiestasdeambato.com
X-WR-CALDESC:Eventos para Fiesta de la Fruta y de las Flores
REFRESH-INTERVAL;VALUE=DURATION:PT1H
X-Robots-Tag:noindex
X-PUBLISHED-TTL:PT1H
BEGIN:VTIMEZONE
TZID:America/New_York
BEGIN:DAYLIGHT
TZOFFSETFROM:-0500
TZOFFSETTO:-0400
TZNAME:EDT
DTSTART:20240310T070000
END:DAYLIGHT
BEGIN:STANDARD
TZOFFSETFROM:-0400
TZOFFSETTO:-0500
TZNAME:EST
DTSTART:20241103T060000
END:STANDARD
BEGIN:DAYLIGHT
TZOFFSETFROM:-0500
TZOFFSETTO:-0400
TZNAME:EDT
DTSTART:20250309T070000
END:DAYLIGHT
BEGIN:STANDARD
TZOFFSETFROM:-0400
TZOFFSETTO:-0500
TZNAME:EST
DTSTART:20251102T060000
END:STANDARD
BEGIN:DAYLIGHT
TZOFFSETFROM:-0500
TZOFFSETTO:-0400
TZNAME:EDT
DTSTART:20260308T070000
END:DAYLIGHT
BEGIN:STANDARD
TZOFFSETFROM:-0400
TZOFFSETTO:-0500
TZNAME:EST
DTSTART:20261101T060000
END:STANDARD
END:VTIMEZONE
BEGIN:VEVENT
DTSTART;TZID=America/New_York:20250216T150000
DTEND;TZID=America/New_York:20250216T210000
DTSTAMP:20260424T172841
CREATED:20250212T134718Z
LAST-MODIFIED:20250212T134718Z
UID:3685-1739718000-1739739600@fiestasdeambato.com
SUMMARY:Melodias Populares "Festival Bandas de Pueblo"
DESCRIPTION:Festival de bandas de pueblo y arpas “Melodías del pueblo” \nEl arpista Carlos Nuela\nLa Sexy banda del Ecuador\nBanda Cruz de Mayo\nLa poderosa banda Niña Maria de Pillaro \nDomingo 16 de febrero\n15 horas\nTeatro Ernesto Alban
URL:https://fiestasdeambato.com/evento/melodias-populares-festival-bandas-de-pueblo/
END:VEVENT
END:VCALENDAR