BEGIN:VCALENDAR
VERSION:2.0
PRODID:-//Fiesta de la Fruta y de las Flores - ECPv6.15.20//NONSGML v1.0//EN
CALSCALE:GREGORIAN
METHOD:PUBLISH
X-WR-CALNAME:Fiesta de la Fruta y de las Flores
X-ORIGINAL-URL:https://fiestasdeambato.com
X-WR-CALDESC:Eventos para Fiesta de la Fruta y de las Flores
REFRESH-INTERVAL;VALUE=DURATION:PT1H
X-Robots-Tag:noindex
X-PUBLISHED-TTL:PT1H
BEGIN:VTIMEZONE
TZID:America/New_York
BEGIN:DAYLIGHT
TZOFFSETFROM:-0500
TZOFFSETTO:-0400
TZNAME:EDT
DTSTART:20240310T070000
END:DAYLIGHT
BEGIN:STANDARD
TZOFFSETFROM:-0400
TZOFFSETTO:-0500
TZNAME:EST
DTSTART:20241103T060000
END:STANDARD
BEGIN:DAYLIGHT
TZOFFSETFROM:-0500
TZOFFSETTO:-0400
TZNAME:EDT
DTSTART:20250309T070000
END:DAYLIGHT
BEGIN:STANDARD
TZOFFSETFROM:-0400
TZOFFSETTO:-0500
TZNAME:EST
DTSTART:20251102T060000
END:STANDARD
BEGIN:DAYLIGHT
TZOFFSETFROM:-0500
TZOFFSETTO:-0400
TZNAME:EDT
DTSTART:20260308T070000
END:DAYLIGHT
BEGIN:STANDARD
TZOFFSETFROM:-0400
TZOFFSETTO:-0500
TZNAME:EST
DTSTART:20261101T060000
END:STANDARD
END:VTIMEZONE
BEGIN:VEVENT
DTSTART;TZID=America/New_York:20250227T080000
DTEND;TZID=America/New_York:20250227T170000
DTSTAMP:20260424T155737
CREATED:20250212T165622Z
LAST-MODIFIED:20250216T021625Z
UID:3735-1740643200-1740675600@fiestasdeambato.com
SUMMARY:Rock Sinfónico
DESCRIPTION:Parque Los Pinos Izamba
URL:https://fiestasdeambato.com/evento/rock-sinfonico/
CATEGORIES:Patronal
ATTACH;FMTTYPE=image/jpeg:https://fiestasdeambato.com/wp-content/uploads/2025/02/WhatsApp-Image-2025-02-15-at-9.15.27-PM.jpeg
END:VEVENT
END:VCALENDAR