BEGIN:VCALENDAR
VERSION:2.0
PRODID:-//Fiesta de la Fruta y de las Flores - ECPv6.15.20//NONSGML v1.0//EN
CALSCALE:GREGORIAN
METHOD:PUBLISH
X-WR-CALNAME:Fiesta de la Fruta y de las Flores
X-ORIGINAL-URL:https://fiestasdeambato.com
X-WR-CALDESC:Eventos para Fiesta de la Fruta y de las Flores
REFRESH-INTERVAL;VALUE=DURATION:PT1H
X-Robots-Tag:noindex
X-PUBLISHED-TTL:PT1H
BEGIN:VTIMEZONE
TZID:America/New_York
BEGIN:DAYLIGHT
TZOFFSETFROM:-0500
TZOFFSETTO:-0400
TZNAME:EDT
DTSTART:20240310T070000
END:DAYLIGHT
BEGIN:STANDARD
TZOFFSETFROM:-0400
TZOFFSETTO:-0500
TZNAME:EST
DTSTART:20241103T060000
END:STANDARD
BEGIN:DAYLIGHT
TZOFFSETFROM:-0500
TZOFFSETTO:-0400
TZNAME:EDT
DTSTART:20250309T070000
END:DAYLIGHT
BEGIN:STANDARD
TZOFFSETFROM:-0400
TZOFFSETTO:-0500
TZNAME:EST
DTSTART:20251102T060000
END:STANDARD
BEGIN:DAYLIGHT
TZOFFSETFROM:-0500
TZOFFSETTO:-0400
TZNAME:EDT
DTSTART:20260308T070000
END:DAYLIGHT
BEGIN:STANDARD
TZOFFSETFROM:-0400
TZOFFSETTO:-0500
TZNAME:EST
DTSTART:20261101T060000
END:STANDARD
END:VTIMEZONE
BEGIN:VEVENT
DTSTART;TZID=America/New_York:20250301T080000
DTEND;TZID=America/New_York:20250301T170000
DTSTAMP:20260424T124950
CREATED:20250213T173312Z
LAST-MODIFIED:20250213T173312Z
UID:3762-1740816000-1740848400@fiestasdeambato.com
SUMMARY:Fiesta Retro
DESCRIPTION:Plaza Cívica GADMA SUR
URL:https://fiestasdeambato.com/evento/fiesta-retro/
END:VEVENT
BEGIN:VEVENT
DTSTART;TZID=America/New_York:20250301T080000
DTEND;TZID=America/New_York:20250301T223000
DTSTAMP:20260424T124950
CREATED:20250212T224602Z
LAST-MODIFIED:20250213T173030Z
UID:3758-1740816000-1740868200@fiestasdeambato.com
SUMMARY:Rondalia Ambateña
DESCRIPTION:Atrio de la Catedral
URL:https://fiestasdeambato.com/evento/rondalia-ambatena/
END:VEVENT
BEGIN:VEVENT
DTSTART;TZID=America/New_York:20250301T090000
DTEND;TZID=America/New_York:20250301T130000
DTSTAMP:20260424T124950
CREATED:20250212T171843Z
LAST-MODIFIED:20250212T171851Z
UID:3750-1740819600-1740834000@fiestasdeambato.com
SUMMARY:Bendición de Flores\, Frutas y Pan
DESCRIPTION:Tradicional evento de flores fruta y pan realizada por la Curia de Ambato\, la mejor alegoria del país\, llamado a la paz y la unión.
URL:https://fiestasdeambato.com/evento/bendicion-de-flores-frutas-y-pan/
ATTACH;FMTTYPE=image/jpeg:https://fiestasdeambato.com/wp-content/uploads/2025/02/AF_Afiches-A4-02.jpg
END:VEVENT
BEGIN:VEVENT
DTSTART;TZID=America/New_York:20250301T110000
DTEND;TZID=America/New_York:20250301T130000
DTSTAMP:20260424T124950
CREATED:20250212T190501Z
LAST-MODIFIED:20250212T190501Z
UID:3753-1740826800-1740834000@fiestasdeambato.com
SUMMARY:Feria Flores Frutas y Pan "Manos que Emprenden"
DESCRIPTION:Parque Cevallos
URL:https://fiestasdeambato.com/evento/feria-flores-frutas-y-pan-manos-que-emprenden/
END:VEVENT
BEGIN:VEVENT
DTSTART;TZID=America/New_York:20250301T150000
DTEND;TZID=America/New_York:20250301T170000
DTSTAMP:20260424T124950
CREATED:20250212T190603Z
LAST-MODIFIED:20250212T190619Z
UID:3755-1740841200-1740848400@fiestasdeambato.com
SUMMARY:Danzando por el mundo Festival Internacional del Folclore
DESCRIPTION:Coliseo Cerrado de los Deportes.
URL:https://fiestasdeambato.com/evento/danzando-por-el-mundo-festival-internacional-del-folclore/
END:VEVENT
END:VCALENDAR