BEGIN:VCALENDAR
VERSION:2.0
PRODID:-//Fiesta de la Fruta y de las Flores - ECPv6.15.20//NONSGML v1.0//EN
CALSCALE:GREGORIAN
METHOD:PUBLISH
X-WR-CALNAME:Fiesta de la Fruta y de las Flores
X-ORIGINAL-URL:https://fiestasdeambato.com
X-WR-CALDESC:Eventos para Fiesta de la Fruta y de las Flores
REFRESH-INTERVAL;VALUE=DURATION:PT1H
X-Robots-Tag:noindex
X-PUBLISHED-TTL:PT1H
BEGIN:VTIMEZONE
TZID:America/New_York
BEGIN:DAYLIGHT
TZOFFSETFROM:-0500
TZOFFSETTO:-0400
TZNAME:EDT
DTSTART:20240310T070000
END:DAYLIGHT
BEGIN:STANDARD
TZOFFSETFROM:-0400
TZOFFSETTO:-0500
TZNAME:EST
DTSTART:20241103T060000
END:STANDARD
BEGIN:DAYLIGHT
TZOFFSETFROM:-0500
TZOFFSETTO:-0400
TZNAME:EDT
DTSTART:20250309T070000
END:DAYLIGHT
BEGIN:STANDARD
TZOFFSETFROM:-0400
TZOFFSETTO:-0500
TZNAME:EST
DTSTART:20251102T060000
END:STANDARD
BEGIN:DAYLIGHT
TZOFFSETFROM:-0500
TZOFFSETTO:-0400
TZNAME:EDT
DTSTART:20260308T070000
END:DAYLIGHT
BEGIN:STANDARD
TZOFFSETFROM:-0400
TZOFFSETTO:-0500
TZNAME:EST
DTSTART:20261101T060000
END:STANDARD
END:VTIMEZONE
BEGIN:VEVENT
DTSTART;TZID=America/New_York:20250304T100000
DTEND;TZID=America/New_York:20250304T170000
DTSTAMP:20260424T173113
CREATED:20250213T194303Z
LAST-MODIFIED:20250213T194303Z
UID:3777-1741082400-1741107600@fiestasdeambato.com
SUMMARY:Exposición Carros Alegóricos
DESCRIPTION:Escuela de Formación de Soldados – ESFORCE
URL:https://fiestasdeambato.com/evento/exposicion-carros-alegoricos/
END:VEVENT
BEGIN:VEVENT
DTSTART;TZID=America/New_York:20250304T150000
DTEND;TZID=America/New_York:20250304T170000
DTSTAMP:20260424T173113
CREATED:20250213T194516Z
LAST-MODIFIED:20250213T194516Z
UID:3779-1741100400-1741107600@fiestasdeambato.com
SUMMARY:Danzando por el Mundo Festival Internacional del Folclor
DESCRIPTION:Coliseo Cerrado de los Deportes
URL:https://fiestasdeambato.com/evento/danzando-por-el-mundo-festival-internacional-del-folclor/
END:VEVENT
BEGIN:VEVENT
DTSTART;TZID=America/New_York:20250304T150000
DTEND;TZID=America/New_York:20250304T170000
DTSTAMP:20260424T173113
CREATED:20250213T194639Z
LAST-MODIFIED:20250216T014527Z
UID:3781-1741100400-1741107600@fiestasdeambato.com
SUMMARY:Baile de la Fraternidad Ambateña
DESCRIPTION:Cdla La Vicentina – Teatro AL AIRE LIBRE
URL:https://fiestasdeambato.com/evento/baile-de-la-fraternidad-ambatena/
END:VEVENT
BEGIN:VEVENT
DTSTART;TZID=America/New_York:20250305T090000
DTEND;TZID=America/New_York:20250305T170000
DTSTAMP:20260424T173113
CREATED:20250213T195020Z
LAST-MODIFIED:20250216T014453Z
UID:3783-1741165200-1741194000@fiestasdeambato.com
SUMMARY:Taller de Danza con los grupos Folcloricos Internacionales
DESCRIPTION:Coliseo GAD de Pinllo
URL:https://fiestasdeambato.com/evento/taller-de-danza-con-los-grupos-folcloricos-internacionales/
ATTACH;FMTTYPE=image/jpeg:https://fiestasdeambato.com/wp-content/uploads/2024/12/D80A6684-2-scaled.jpg
END:VEVENT
END:VCALENDAR